BEGIN:VCALENDAR
VERSION:2.0
PRODID:GlueUp
CALSCALE:GREGORIAN
BEGIN:VTIMEZONE
TZID:UTC
BEGIN:STANDARD
DTSTART:19700101T000000
TZOFFSETFROM:+0000
TZOFFSETTO:+0000
TZNAME:UTC
END:STANDARD
END:VTIMEZONE
BEGIN:VEVENT
TZ:+00
ORGANIZER;CN=RAS China:MAILTO:raschina@ras-china.org
UID:50280-1777040746@https://ras-china.glueup.cn
DTSTAMP:20260424T142546Z
DTSTART:20260516T063000Z
DTEND:20260516T083000Z
SUMMARY:RAS Spring Social and Journal Launch
DESCRIPTION:RAS Spring Social and Journal Launch by Royal Asiatic Society China in Shanghai\n\nMay 16, 2026 (2:30 PM - 4:30 PM)(GMT+8)\n\nFor more information, click here: https://ras-china.glueup.cn/my/events/50280
LOCATION:Meeting place will be provided to confirmed attendees prior to the event - Shanghai - China
BEGIN:VALARM
TRIGGER:-PT48H
REPEAT:4
DURATION:PT30M
ACTION:DISPLAY
END:VALARM
END:VEVENT
END:VCALENDAR