BEGIN:VCALENDAR
VERSION:2.0
PRODID:GlueUp
CALSCALE:GREGORIAN
BEGIN:VTIMEZONE
TZID:UTC
BEGIN:STANDARD
DTSTART:19700101T000000
TZOFFSETFROM:+0000
TZOFFSETTO:+0000
TZNAME:UTC
END:STANDARD
END:VTIMEZONE
BEGIN:VEVENT
TZ:+00
ORGANIZER;CN=Admin Manager:MAILTO:raschina@ras-china.org
UID:42020-1776646950@https://ras-china.glueup.cn
DTSTAMP:20260420T010230Z
DTSTART:20231125T070000Z
DTEND:20231125T090000Z
SUMMARY:RAS Special Event 25 Nov: 2023 Annual General Meeting
DESCRIPTION:RAS Special Event 25 Nov: 2023 Annual General Meeting by Royal Asiatic Society China in Shanghai\n\nNov 25, 2023 (3:00 PM - 5:00 PM)(GMT+8)\n\nFor more information, click here: https://ras-china.glueup.cn/my/events/42020
LOCATION:RAS China Reading Room - 888 Dong'an Road - Building 13 (Corner of Longteng Avenue) - 东安路888弄13号楼（近龙腾大道） Shanghai - China
BEGIN:VALARM
TRIGGER:-PT48H
REPEAT:4
DURATION:PT30M
ACTION:DISPLAY
END:VALARM
END:VEVENT
END:VCALENDAR