BEGIN:VCALENDAR
VERSION:2.0
PRODID:GlueUp
CALSCALE:GREGORIAN
BEGIN:VTIMEZONE
TZID:UTC
BEGIN:STANDARD
DTSTART:19700101T000000
TZOFFSETFROM:+0000
TZOFFSETTO:+0000
TZNAME:UTC
END:STANDARD
END:VTIMEZONE
BEGIN:VEVENT
TZ:+00
ORGANIZER;CN=Admin Manager:MAILTO:raschina@ras-china.org
UID:49845-1777163383@https://ras-china.glueup.cn
DTSTAMP:20260426T002943Z
DTSTART:20260328T060000Z
DTEND:20260328T083000Z
SUMMARY:RAS History: Bringing the 'Yale Spirit' to Changsha: Varsity Sport in the Chinese Republic
DESCRIPTION:RAS History: Bringing the 'Yale Spirit' to Changsha: Varsity Sport in the Chinese Republic by Royal Asiatic Society China in Shanghai\n\nMar 28, 2026 (2:00 PM - 4:30 PM)(GMT+8)\n\nFor more information, click here: https://ras-china.glueup.cn/my/events/49845
LOCATION:Garden Books - 长乐路325号，近陕西南路 - 325 Changle Rd - Near Shaanxi South Rd Shanghai - China
BEGIN:VALARM
TRIGGER:-PT48H
REPEAT:4
DURATION:PT30M
ACTION:DISPLAY
END:VALARM
END:VEVENT
END:VCALENDAR