BEGIN:VCALENDAR
VERSION:2.0
PRODID:GlueUp
CALSCALE:GREGORIAN
BEGIN:VTIMEZONE
TZID:UTC
BEGIN:STANDARD
DTSTART:19700101T000000
TZOFFSETFROM:+0000
TZOFFSETTO:+0000
TZNAME:UTC
END:STANDARD
END:VTIMEZONE
BEGIN:VEVENT
TZ:+00
ORGANIZER;CN=RAS China:MAILTO:raschina@ras-china.org
UID:49805-1776710573@https://ras-china.glueup.cn
DTSTAMP:20260420T184253Z
DTSTART:20260321T020000Z
DTEND:20260321T040000Z
SUMMARY:RAS Food Focus Mar 21: Gongfu Tea & Shanghai Sweets
DESCRIPTION:RAS Food Focus Mar 21: Gongfu Tea & Shanghai Sweets by Royal Asiatic Society China in Shanghai\n\nMar 21, 2026 (10:00 AM - 12:00 PM)(GMT+8)\n\nFor more information, click here: https://ras-china.glueup.cn/my/events/49805
LOCATION:Zaizhijian Space   上海在之间优教育文化空间 - 5/F - Building D - C-Park Haisu - 638 Zhaohua Road - Changning District - 长宁区昭化路638号海粟文化广场D栋5层 Shanghai - China
BEGIN:VALARM
TRIGGER:-PT48H
REPEAT:4
DURATION:PT30M
ACTION:DISPLAY
END:VALARM
END:VEVENT
END:VCALENDAR