BEGIN:VCALENDAR
VERSION:2.0
PRODID:GlueUp
CALSCALE:GREGORIAN
BEGIN:VTIMEZONE
TZID:UTC
BEGIN:STANDARD
DTSTART:19700101T000000
TZOFFSETFROM:+0000
TZOFFSETTO:+0000
TZNAME:UTC
END:STANDARD
END:VTIMEZONE
BEGIN:VEVENT
TZ:+00
ORGANIZER;CN=RAS Programme Co-Ordinator:MAILTO:raschina@ras-china.org
UID:49803-1776710857@https://ras-china.glueup.cn
DTSTAMP:20260420T184737Z
DTSTART:20260318T103000Z
DTEND:20260318T123000Z
SUMMARY:RAS Food Focus Mar 18: Storytelling Dinner—Hunan Cuisine
DESCRIPTION:RAS Food Focus Mar 18: Storytelling Dinner—Hunan Cuisine by Royal Asiatic Society China in Shanghai\n\nMar 18, 2026 (6:30 PM - 8:30 PM)(GMT+8)\n\nFor more information, click here: https://ras-china.glueup.cn/my/events/49803
LOCATION:Meeting place will be provided to confirmed attendees prior to the event - Shanghai - China
BEGIN:VALARM
TRIGGER:-PT48H
REPEAT:4
DURATION:PT30M
ACTION:DISPLAY
END:VALARM
END:VEVENT
END:VCALENDAR