BEGIN:VCALENDAR
VERSION:2.0
PRODID:GlueUp
CALSCALE:GREGORIAN
BEGIN:VTIMEZONE
TZID:UTC
BEGIN:STANDARD
DTSTART:19700101T000000
TZOFFSETFROM:+0000
TZOFFSETTO:+0000
TZNAME:UTC
END:STANDARD
END:VTIMEZONE
BEGIN:VEVENT
TZ:+00
ORGANIZER;CN=Peter Hagan:MAILTO:bookevents@royalasiaticsociety.org.cn
UID:31591-1776715876@https://ras-china.glueup.cn
DTSTAMP:20260420T201116Z
DTSTART:20210503T113000Z
DTEND:20210503T130000Z
SUMMARY:RAS Book Club: 1587 – A Year of No Significance, by Ray Huang [IN-PERSON EVENT]
DESCRIPTION:RAS Book Club: 1587 – A Year of No Significance, by Ray Huang [IN-PERSON EVENT] by Royal Asiatic Society China in Shanghai\n\nMay 3, 2021 (7:30 PM - 9:00 PM)(GMT+8)\n\nFor more information, click here: https://ras-china.glueup.cn/my/events/31591
LOCATION:Garden Books - 长乐路325号，近陕西南路 - 325 Changle Rd - Near Shaanxi South Rd Shanghai - China
BEGIN:VALARM
TRIGGER:-PT48H
REPEAT:4
DURATION:PT30M
ACTION:DISPLAY
END:VALARM
END:VEVENT
END:VCALENDAR