BEGIN:VCALENDAR
VERSION:2.0
PRODID:GlueUp
CALSCALE:GREGORIAN
BEGIN:VTIMEZONE
TZID:UTC
BEGIN:STANDARD
DTSTART:19700101T000000
TZOFFSETFROM:+0000
TZOFFSETTO:+0000
TZNAME:UTC
END:STANDARD
END:VTIMEZONE
BEGIN:VEVENT
TZ:+00
ORGANIZER;CN=RAS Programme Co-Ordinator:MAILTO:bookings@royalasiaticsociety.org.cn
UID:29696-1777145995@https://ras-china.glueup.cn
DTSTAMP:20260425T193955Z
DTSTART:20201217T110000Z
DTEND:20201216T160001Z
SUMMARY:RAS History Club: Marco Polo’s Muslim Competitor – Fakhr al-Dīn along the Silk Road
DESCRIPTION:RAS History Club: Marco Polo’s Muslim Competitor – Fakhr al-Dīn along the Silk Road by Royal Asiatic Society China in Shanghai\n\nDec 17, 2020 (7:00 PM)(GMT+8)\n\nFor more information, click here: https://ras-china.glueup.cn/my/events/29696
LOCATION:Punchline Café - Paramount Metropolis - 22F - 1728 West Nanjing Road - 南京西路1728号22楼 Shanghai - China
BEGIN:VALARM
TRIGGER:-PT48H
REPEAT:4
DURATION:PT30M
ACTION:DISPLAY
END:VALARM
END:VEVENT
END:VCALENDAR